BEGIN:VCALENDAR
VERSION:2.0
PRODID:-//Beautify.com - ECPv6.15.18//NONSGML v1.0//EN
CALSCALE:GREGORIAN
METHOD:PUBLISH
X-WR-CALNAME:Beautify.com
X-ORIGINAL-URL:https://www.beautify.com
X-WR-CALDESC:Events for Beautify.com
REFRESH-INTERVAL;VALUE=DURATION:PT1H
X-Robots-Tag:noindex
X-PUBLISHED-TTL:PT1H
BEGIN:VTIMEZONE
TZID:America/Los_Angeles
BEGIN:DAYLIGHT
TZOFFSETFROM:-0800
TZOFFSETTO:-0700
TZNAME:PDT
DTSTART:20220313T100000
END:DAYLIGHT
BEGIN:STANDARD
TZOFFSETFROM:-0700
TZOFFSETTO:-0800
TZNAME:PST
DTSTART:20221106T090000
END:STANDARD
BEGIN:DAYLIGHT
TZOFFSETFROM:-0800
TZOFFSETTO:-0700
TZNAME:PDT
DTSTART:20230312T100000
END:DAYLIGHT
BEGIN:STANDARD
TZOFFSETFROM:-0700
TZOFFSETTO:-0800
TZNAME:PST
DTSTART:20231105T090000
END:STANDARD
BEGIN:DAYLIGHT
TZOFFSETFROM:-0800
TZOFFSETTO:-0700
TZNAME:PDT
DTSTART:20240310T100000
END:DAYLIGHT
BEGIN:STANDARD
TZOFFSETFROM:-0700
TZOFFSETTO:-0800
TZNAME:PST
DTSTART:20241103T090000
END:STANDARD
END:VTIMEZONE
BEGIN:VEVENT
DTSTART;VALUE=DATE:20231007
DTEND;VALUE=DATE:20231009
DTSTAMP:20260421T064348
CREATED:20230608T200837Z
LAST-MODIFIED:20230614T223055Z
UID:2031-1696636800-1696809599@www.beautify.com
SUMMARY:Arizona Women's Expo
DESCRIPTION:
URL:https://www.beautify.com/event/arizona-womens-expo/
LOCATION:Phoenix Convention Center\, Phoenix\, AZ
CATEGORIES:Lifestyle
ATTACH;FMTTYPE=image/png:https://www.beautify.com/wp-content/uploads/2023/06/Arizona.png
END:VEVENT
BEGIN:VEVENT
DTSTART;VALUE=DATE:20230930
DTEND;VALUE=DATE:20231002
DTSTAMP:20260421T064348
CREATED:20230608T200709Z
LAST-MODIFIED:20230614T223055Z
UID:2027-1696032000-1696204799@www.beautify.com
SUMMARY:Dallas/Fort Worth Women's Expo
DESCRIPTION:
URL:https://www.beautify.com/event/dallas-fort-worth-womens-expo/
LOCATION:Irving Convention Center\, 500 W Las Colinas Blvd.\, Irving\, TX\, 75039
CATEGORIES:Lifestyle
ATTACH;FMTTYPE=image/png:https://www.beautify.com/wp-content/uploads/2023/06/Dallas.png
END:VEVENT
BEGIN:VEVENT
DTSTART;VALUE=DATE:20230926
DTEND;VALUE=DATE:20230930
DTSTAMP:20260421T064348
CREATED:20230614T224304Z
LAST-MODIFIED:20230614T224304Z
UID:2232-1695686400-1696031999@www.beautify.com
SUMMARY:Spatec North America
DESCRIPTION:
URL:https://www.beautify.com/event/spatec-north-america-3/
LOCATION:Eau Palm Beach\, 100 S Ocean Blvd\, Manalapan\, FL\, 33462
CATEGORIES:Medical Spas
ATTACH;FMTTYPE=image/jpeg:https://www.beautify.com/wp-content/uploads/2022/01/spatec.jpg
END:VEVENT
BEGIN:VEVENT
DTSTART;VALUE=DATE:20230923
DTEND;VALUE=DATE:20230924
DTSTAMP:20260421T064348
CREATED:20230608T200525Z
LAST-MODIFIED:20230614T223055Z
UID:2024-1695427200-1695513599@www.beautify.com
SUMMARY:2023 All British Car & Cycle Show
DESCRIPTION:
URL:https://www.beautify.com/event/2023-all-british-car-cycle-show/
LOCATION:Creve Coeur Lake Memorial Park\, 13750 Marine Ave\, St Louis\, MO\, 63146
CATEGORIES:Lifestyle
ATTACH;FMTTYPE=image/png:https://www.beautify.com/wp-content/uploads/2023/06/ABCS2013LogoHdrTrim.png
END:VEVENT
BEGIN:VEVENT
DTSTART;VALUE=DATE:20230922
DTEND;VALUE=DATE:20230925
DTSTAMP:20260421T064348
CREATED:20230608T200204Z
LAST-MODIFIED:20230614T223056Z
UID:2022-1695340800-1695599999@www.beautify.com
SUMMARY:Monterey Jazz Festival 2023
DESCRIPTION:
URL:https://www.beautify.com/event/monterey-jazz-festival-2023/
LOCATION:Monterey County Fairgrounds\, 2004 Fairground Road\, Monterey\, CA\, 93940
CATEGORIES:Lifestyle
ATTACH;FMTTYPE=image/jpeg:https://www.beautify.com/wp-content/uploads/2022/08/jazz-beauty-health.jpg
END:VEVENT
BEGIN:VEVENT
DTSTART;VALUE=DATE:20230920
DTEND;VALUE=DATE:20230922
DTSTAMP:20260421T064348
CREATED:20221108T215900Z
LAST-MODIFIED:20230614T223056Z
UID:1081-1695168000-1695340799@www.beautify.com
SUMMARY:MakeUp in NewYork
DESCRIPTION:As a Glo.cal* business facilitator\, MakeUp in NewYork orchestrates a professional and convivial event connecting the most innovative and talented cosmetic suppliers with the most successful skincare and make-up brands\, in the heart an American beauty industry’s hub: New York!
URL:https://www.beautify.com/event/makeup-in-newyork/
LOCATION:Jacob K. Javits Convention Center\, New York\, NY
CATEGORIES:Hair and Nails
ATTACH;FMTTYPE=image/jpeg:https://www.beautify.com/wp-content/uploads/2022/11/makeup-new-york.jpg
END:VEVENT
BEGIN:VEVENT
DTSTART;VALUE=DATE:20230919
DTEND;VALUE=DATE:20230922
DTSTAMP:20260421T064348
CREATED:20230608T195923Z
LAST-MODIFIED:20230627T013625Z
UID:2020-1695081600-1695340799@www.beautify.com
SUMMARY:Magic New York
DESCRIPTION:
URL:https://www.beautify.com/event/magic-new-york/
LOCATION:Jacob K. Javits Convention Center\, New York\, NY
CATEGORIES:Lifestyle
ATTACH;FMTTYPE=image/jpeg:https://www.beautify.com/wp-content/uploads/2023/06/magic-ny.jpg
END:VEVENT
BEGIN:VEVENT
DTSTART;VALUE=DATE:20230916
DTEND;VALUE=DATE:20230917
DTSTAMP:20260421T064348
CREATED:20230608T195748Z
LAST-MODIFIED:20230614T223056Z
UID:2017-1694822400-1694908799@www.beautify.com
SUMMARY:The New York City Concours
DESCRIPTION:
URL:https://www.beautify.com/event/the-new-york-city-concours/
LOCATION:The Rooftop at Pier 17\, Pier 17 – 89 South Street\, New York\, NY\, 10038
CATEGORIES:Lifestyle
ATTACH;FMTTYPE=image/jpeg:https://www.beautify.com/wp-content/uploads/2023/06/Screen-Shot-2023-06-08-at-12.56.15-PM.jpg
END:VEVENT
BEGIN:VEVENT
DTSTART;VALUE=DATE:20230908
DTEND;VALUE=DATE:20230911
DTSTAMP:20260421T064348
CREATED:20230608T195247Z
LAST-MODIFIED:20230614T223057Z
UID:2014-1694131200-1694390399@www.beautify.com
SUMMARY:Saint Louis Art Fair
DESCRIPTION:
URL:https://www.beautify.com/event/saint-louis-art-fair/
LOCATION:Downtown Clayton\, Downtown Clayton\, MO\, 63105
CATEGORIES:Lifestyle
ATTACH;FMTTYPE=image/jpeg:https://www.beautify.com/wp-content/uploads/2023/06/st-louis-art-fair.jpg
END:VEVENT
BEGIN:VEVENT
DTSTART;VALUE=DATE:20230908
DTEND;VALUE=DATE:20230911
DTSTAMP:20260421T064348
CREATED:20230608T194855Z
LAST-MODIFIED:20230614T223057Z
UID:2011-1694131200-1694390399@www.beautify.com
SUMMARY:Fall Atlanta Home Show
DESCRIPTION:
URL:https://www.beautify.com/event/fall-atlanta-home-show/
LOCATION:Cobb Galleria Centre\, 2 Galleria Pkwy SE\, Atlanta\, GA\, 30339
CATEGORIES:Lifestyle
ATTACH;FMTTYPE=image/jpeg:https://www.beautify.com/wp-content/uploads/2023/06/atlanta-fall-home-show.jpg
END:VEVENT
BEGIN:VEVENT
DTSTART;VALUE=DATE:20230907
DTEND;VALUE=DATE:20230910
DTSTAMP:20260421T064348
CREATED:20230608T194655Z
LAST-MODIFIED:20230614T223057Z
UID:2008-1694044800-1694303999@www.beautify.com
SUMMARY:34th Annual Adirondack Nationals Show
DESCRIPTION:
URL:https://www.beautify.com/event/34th-annual-adirondack-nationals-show/
LOCATION:Lake George Resort\, 48 Canada St\, Lake George\, NY\, 12845
CATEGORIES:Lifestyle
ATTACH;FMTTYPE=image/png:https://www.beautify.com/wp-content/uploads/2023/06/AN_LogoTransparent-File.png
END:VEVENT
BEGIN:VEVENT
DTSTART;VALUE=DATE:20230902
DTEND;VALUE=DATE:20230903
DTSTAMP:20260421T064348
CREATED:20230605T181600Z
LAST-MODIFIED:20230614T223057Z
UID:1985-1693612800-1693699199@www.beautify.com
SUMMARY:Olcott Beach Car Show
DESCRIPTION:
URL:https://www.beautify.com/event/olcott-beach-car-show/
LOCATION:Lake Ontario\, 6006-6052 E Main St\, Olcott\, NY\, 14126
CATEGORIES:Lifestyle
ATTACH;FMTTYPE=image/jpeg:https://www.beautify.com/wp-content/uploads/2023/06/Screen-Shot-2023-06-05-at-11.14.10-AM.jpg
END:VEVENT
BEGIN:VEVENT
DTSTART;VALUE=DATE:20230901
DTEND;VALUE=DATE:20230911
DTSTAMP:20260421T064348
CREATED:20230605T181340Z
LAST-MODIFIED:20230614T223058Z
UID:1983-1693526400-1694390399@www.beautify.com
SUMMARY:Miami International Auto Show
DESCRIPTION:
URL:https://www.beautify.com/event/miami-international-auto-show/
LOCATION:Miami Beach Convention Center\, Miami Beach\, FL
CATEGORIES:Lifestyle
ATTACH;FMTTYPE=image/jpeg:https://www.beautify.com/wp-content/uploads/2023/06/Screen-Shot-2023-06-05-at-11.12.39-AM.jpg
END:VEVENT
BEGIN:VEVENT
DTSTART;VALUE=DATE:20230831
DTEND;VALUE=DATE:20230904
DTSTAMP:20260421T064348
CREATED:20230605T181155Z
LAST-MODIFIED:20230614T223058Z
UID:1980-1693440000-1693785599@www.beautify.com
SUMMARY:Chicago Jazz Festival
DESCRIPTION:
URL:https://www.beautify.com/event/chicago-jazz-festival/
LOCATION:Millennium Park\, 201 E. Randolph St.\, Chicago\, IL\, 60601
CATEGORIES:Lifestyle
ATTACH;FMTTYPE=image/jpeg:https://www.beautify.com/wp-content/uploads/2023/06/Screen-Shot-2023-06-05-at-11.09.36-AM.jpg
END:VEVENT
BEGIN:VEVENT
DTSTART;VALUE=DATE:20230827
DTEND;VALUE=DATE:20230830
DTSTAMP:20260421T064348
CREATED:20230608T194337Z
LAST-MODIFIED:20230628T172140Z
UID:2006-1693094400-1693353599@www.beautify.com
SUMMARY:Chicago Collective (Women's Edition)
DESCRIPTION:
URL:https://www.beautify.com/event/chicago-collective-womens-edition/
LOCATION:CA
CATEGORIES:Lifestyle
ATTACH;FMTTYPE=image/jpeg:https://www.beautify.com/wp-content/uploads/2023/06/Screen-Shot-2023-06-08-at-12.42.39-PM.jpg
END:VEVENT
BEGIN:VEVENT
DTSTART;VALUE=DATE:20230826
DTEND;VALUE=DATE:20230828
DTSTAMP:20260421T064348
CREATED:20230605T180813Z
LAST-MODIFIED:20230614T223059Z
UID:1977-1693008000-1693180799@www.beautify.com
SUMMARY:Festival of Nations
DESCRIPTION:
URL:https://www.beautify.com/event/festival-of-nations/
LOCATION:Tower Grove Park\, 4257 Northeast Dr.\, St. Louis\, MO\, 63110
CATEGORIES:Lifestyle
ATTACH;FMTTYPE=image/jpeg:https://www.beautify.com/wp-content/uploads/2023/06/festival-of-nations.jpg
END:VEVENT
BEGIN:VEVENT
DTSTART;VALUE=DATE:20230826
DTEND;VALUE=DATE:20230828
DTSTAMP:20260421T064348
CREATED:20230605T180435Z
LAST-MODIFIED:20230614T223059Z
UID:1974-1693008000-1693180799@www.beautify.com
SUMMARY:Southern California’s Premier Automobile Showcase
DESCRIPTION:
URL:https://www.beautify.com/event/southern-californias-premier-automobile-showcase/
LOCATION:Lacy Park\, 1485 Virginia Road\, San Marino\, CA\, 91108
CATEGORIES:Lifestyle
ATTACH;FMTTYPE=image/jpeg:https://www.beautify.com/wp-content/uploads/2023/06/san-marino-motor-classic.jpg
END:VEVENT
BEGIN:VEVENT
DTSTART;VALUE=DATE:20230820
DTEND;VALUE=DATE:20230822
DTSTAMP:20260421T064348
CREATED:20221108T212247Z
LAST-MODIFIED:20230627T212743Z
UID:1059-1692489600-1692662399@www.beautify.com
SUMMARY:The International Congress of Esthetics & Spa Long  Beach
DESCRIPTION:
URL:https://www.beautify.com/event/the-international-congress-of-esthetics-spa-long-beach/
LOCATION:Long Beach Convention Center\, Long Beach\, CA
CATEGORIES:Medical Spas
ATTACH;FMTTYPE=image/jpeg:https://www.beautify.com/wp-content/uploads/2022/11/congress-esthetics-spa-long-beach.jpg
END:VEVENT
BEGIN:VEVENT
DTSTART;VALUE=DATE:20230811
DTEND;VALUE=DATE:20230813
DTSTAMP:20260421T064348
CREATED:20230605T180016Z
LAST-MODIFIED:20230614T223100Z
UID:1971-1691712000-1691884799@www.beautify.com
SUMMARY:Blues At The Arch Festival
DESCRIPTION:
URL:https://www.beautify.com/event/blues-at-the-arch-festival/
LOCATION:Gateway Arch National Park\, St. Louis\, MO\, 63102
CATEGORIES:Lifestyle
ATTACH;FMTTYPE=image/jpeg:https://www.beautify.com/wp-content/uploads/2023/06/blues-at-the-arch.jpg
END:VEVENT
BEGIN:VEVENT
DTSTART;VALUE=DATE:20230807
DTEND;VALUE=DATE:20230810
DTSTAMP:20260421T064348
CREATED:20230608T194131Z
LAST-MODIFIED:20230614T223100Z
UID:2004-1691366400-1691625599@www.beautify.com
SUMMARY:Magic Las Vegas
DESCRIPTION:
URL:https://www.beautify.com/event/magic-las-vegas/
LOCATION:Las Vegas Convention Center\, Las Vegas\, NV
CATEGORIES:Lifestyle
ATTACH;FMTTYPE=image/jpeg:https://www.beautify.com/wp-content/uploads/2023/06/Screen-Shot-2023-06-08-at-12.40.55-PM.jpg
END:VEVENT
BEGIN:VEVENT
DTSTART;VALUE=DATE:20230806
DTEND;VALUE=DATE:20230810
DTSTAMP:20260421T064348
CREATED:20230608T194022Z
LAST-MODIFIED:20230614T223100Z
UID:2001-1691280000-1691625599@www.beautify.com
SUMMARY:Las Vegas Apparel
DESCRIPTION:
URL:https://www.beautify.com/event/las-vegas-apparel/
LOCATION:The EXPO at World Market Center\, 435 S. Grand Central Parkway\,\, Las Vegas\, NV\, 89106
CATEGORIES:Lifestyle
ATTACH;FMTTYPE=image/jpeg:https://www.beautify.com/wp-content/uploads/2023/06/Screen-Shot-2023-06-08-at-12.38.45-PM.jpg
END:VEVENT
BEGIN:VEVENT
DTSTART;VALUE=DATE:20230806
DTEND;VALUE=DATE:20230809
DTSTAMP:20260421T064348
CREATED:20230608T193820Z
LAST-MODIFIED:20230614T223101Z
UID:1998-1691280000-1691539199@www.beautify.com
SUMMARY:Chicago Collective (Men's Edition)
DESCRIPTION:
URL:https://www.beautify.com/event/chicago-collective-mens-edition/
LOCATION:The Mart\, 222 Merchandise Mart Plaza 7Th Floor Market Suites\, Chicago\, IL\, 60654
CATEGORIES:Lifestyle
ATTACH;FMTTYPE=image/jpeg:https://www.beautify.com/wp-content/uploads/2023/06/Screen-Shot-2023-06-08-at-12.36.10-PM.jpg
END:VEVENT
BEGIN:VEVENT
DTSTART;VALUE=DATE:20230802
DTEND;VALUE=DATE:20230806
DTSTAMP:20260421T064348
CREATED:20230614T223454Z
LAST-MODIFIED:20230628T165412Z
UID:2222-1690934400-1691279999@www.beautify.com
SUMMARY:The MAC (Multispecialty Aesthetic Conference)
DESCRIPTION:The aesthetics industry is transforming every day. If the last few years have taught us anything\, it’s that you must embrace change to thrive. Join us in San Diego in 2023 for the Multispecialty Aesthetic Conference\, a brand new meeting bringing together the brightest minds in all four cosmetic specialties. \nThe Multispecialty Aesthetic Conference is designed by medical professionals\, for medical professionals. Advance your clinical skills\, forge meaningful connections and implement real solutions to help your practice prosper. In 3.5 days of keynote presentations\, live demos and workshops\, a curated exhibit hall\, networking functions\, and so much more\, this is an event you won’t want to miss.
URL:https://www.beautify.com/event/the-mac-multispecialty-aesthetic-conference/
LOCATION:Marriott Marquis\, 333 W Harbor Dr\, San Diego\, CA\, 92101
CATEGORIES:Cosmetic Physicians
ATTACH;FMTTYPE=image/jpeg:https://www.beautify.com/wp-content/uploads/2023/06/mac-black.jpg
END:VEVENT
BEGIN:VEVENT
DTSTART;VALUE=DATE:20230801
DTEND;VALUE=DATE:20230805
DTSTAMP:20260421T064348
CREATED:20230605T175601Z
LAST-MODIFIED:20230614T223101Z
UID:1969-1690848000-1691193599@www.beautify.com
SUMMARY:Atlanta Apparel Market August
DESCRIPTION:
URL:https://www.beautify.com/event/atlanta-apparel-market-august/
LOCATION:Atlanta Apparel\, 240 Peachtree Street NW\, Atlanta\, GA\, 30303
CATEGORIES:Lifestyle
ATTACH;FMTTYPE=image/png:https://www.beautify.com/wp-content/uploads/2023/06/atlanta-apparel.png
END:VEVENT
BEGIN:VEVENT
DTSTART;VALUE=DATE:20230731
DTEND;VALUE=DATE:20230805
DTSTAMP:20260421T064348
CREATED:20230608T193507Z
LAST-MODIFIED:20230614T223101Z
UID:1996-1690761600-1691193599@www.beautify.com
SUMMARY:VOW Bridal & Formal
DESCRIPTION:
URL:https://www.beautify.com/event/vow-bridal-formal/
LOCATION:Atlanta Apparel\, 240 Peachtree Street NW\, Atlanta\, GA\, 30303
CATEGORIES:Lifestyle
ATTACH;FMTTYPE=image/jpeg:https://www.beautify.com/wp-content/uploads/2023/06/Screen-Shot-2023-06-08-at-12.34.49-PM.jpg
END:VEVENT
BEGIN:VEVENT
DTSTART;VALUE=DATE:20230731
DTEND;VALUE=DATE:20230805
DTSTAMP:20260421T064348
CREATED:20230605T175147Z
LAST-MODIFIED:20230614T223102Z
UID:1966-1690761600-1691193599@www.beautify.com
SUMMARY:World of Prom & Social Occasion
DESCRIPTION:
URL:https://www.beautify.com/event/world-of-prom-social-occasion/
LOCATION:Atlanta Apparel\, 240 Peachtree Street NW\, Atlanta\, GA\, 30303
CATEGORIES:Lifestyle
ATTACH;FMTTYPE=image/jpeg:https://www.beautify.com/wp-content/uploads/2023/06/Screen-Shot-2023-06-05-at-10.49.17-AM.jpg
END:VEVENT
BEGIN:VEVENT
DTSTART;VALUE=DATE:20230730
DTEND;VALUE=DATE:20230804
DTSTAMP:20260421T064348
CREATED:20230605T174838Z
LAST-MODIFIED:20230614T223102Z
UID:1964-1690675200-1691107199@www.beautify.com
SUMMARY:LA Market Week (Holiday/Resort 2023)
DESCRIPTION:
URL:https://www.beautify.com/event/la-market-week-holiday-resort-2023/
LOCATION:California Market Center\, 110 East 9th Street Suite A200\, Los Angeles\, CA\, 90079
CATEGORIES:Lifestyle
ATTACH;FMTTYPE=image/jpeg:https://www.beautify.com/wp-content/uploads/2023/06/Screen-Shot-2023-06-05-at-10.47.35-AM.jpg
END:VEVENT
BEGIN:VEVENT
DTSTART;VALUE=DATE:20230714
DTEND;VALUE=DATE:20230717
DTSTAMP:20260421T064348
CREATED:20221017T211730Z
LAST-MODIFIED:20230614T223102Z
UID:973-1689292800-1689551999@www.beautify.com
SUMMARY:MAPS 61st Annual Scientific Meeting
DESCRIPTION:Our Mission: To promote research and support education in the field of plastic surgery. This mission is accomplished though our annual meeting which provides a vehicle for scientific interchange and networking attended by plastic surgeons\, nurses\, researchers and guests who are involved in plastic surgery.
URL:https://www.beautify.com/event/maps-61st-annual-scientific-meeting/
LOCATION:Grand Geneva Resort & Spa\, 7036 Grand Geneva Way\, Lake Geneva\, WI\, 53147
CATEGORIES:Cosmetic Physicians
ATTACH;FMTTYPE=image/png:https://www.beautify.com/wp-content/uploads/2022/10/2023-Save-the-Date-Banner.png
END:VEVENT
BEGIN:VEVENT
DTSTART;VALUE=DATE:20230711
DTEND;VALUE=DATE:20230714
DTSTAMP:20260421T064348
CREATED:20221108T212054Z
LAST-MODIFIED:20230627T214515Z
UID:1057-1689033600-1689292799@www.beautify.com
SUMMARY:Cosmoprof North America (CPNA)
DESCRIPTION:Cosmoprof North America (CPNA) is the leading business-to-business (B2B) beauty exhibition in the Americas. Recognized for its dynamic growth and unique programs\, the event offers the entire beauty industry an opportunity to come together to make new relationships and foster collaborations.
URL:https://www.beautify.com/event/cosmoprof-north-america-cpna-2/
LOCATION:Las Vegas Convention Center\, Las Vegas\, NV
CATEGORIES:Hair and Nails,Medical Spas
ATTACH;FMTTYPE=image/jpeg:https://www.beautify.com/wp-content/uploads/2022/11/cosmoprof.jpg
END:VEVENT
BEGIN:VEVENT
DTSTART;VALUE=DATE:20230706
DTEND;VALUE=DATE:20230710
DTSTAMP:20260421T064348
CREATED:20221017T211354Z
LAST-MODIFIED:20230614T223103Z
UID:971-1688601600-1688947199@www.beautify.com
SUMMARY:The Aesthetic Show
DESCRIPTION:From NEW medical innovations and procedures to practice and business management insights and tools\, all you need to strengthen and grow your practice is in one place – The Aesthetic Show! By welcoming – and celebrating – a multispecialty faculty and audience\, there are opportunities to learn and network with practitioners who bring unique medical perspectives you won’t find elsewhere.
URL:https://www.beautify.com/event/the-aesthetic-show/
LOCATION:Wynn Las Vegas\, Las Vegas\, NV
CATEGORIES:Cosmetic Physicians
ATTACH;FMTTYPE=image/png:https://www.beautify.com/wp-content/uploads/2022/10/tas-logo.png
END:VEVENT
END:VCALENDAR